BEGIN:VCALENDAR
VERSION:2.0
PRODID:-//UPVJ - ECPv5.16.3//NONSGML v1.0//EN
CALSCALE:GREGORIAN
METHOD:PUBLISH
X-WR-CALNAME:UPVJ
X-ORIGINAL-URL:https://www.upvj.ch
X-WR-CALDESC:évènements pour UPVJ
REFRESH-INTERVAL;VALUE=DURATION:PT1H
X-Robots-Tag:noindex
X-PUBLISHED-TTL:PT1H
BEGIN:VTIMEZONE
TZID:Europe/Zurich
BEGIN:DAYLIGHT
TZOFFSETFROM:+0100
TZOFFSETTO:+0200
TZNAME:CEST
DTSTART:20170326T010000
END:DAYLIGHT
BEGIN:STANDARD
TZOFFSETFROM:+0200
TZOFFSETTO:+0100
TZNAME:CET
DTSTART:20171029T010000
END:STANDARD
END:VTIMEZONE
BEGIN:VEVENT
DTSTART;TZID=Europe/Zurich:20170930T100000
DTEND;TZID=Europe/Zurich:20170930T160000
DTSTAMP:20260421T221217
CREATED:20220804T072357Z
LAST-MODIFIED:20220804T072358Z
UID:2080-1506765600-1506787200@www.upvj.ch
SUMMARY:Balade n° 130 - Les Passeurs du Risoud
DESCRIPTION:Par Yves Giroud – Accompagnateur de randonnée breveté. \n\n\n\nL’UPVJ vous propose son désormais traditionnel rendez-vous avec l’histoire de notre région durant la 2ème guerre mondiale. Marchons ensemble dans cette magnifique forêt du Risoud\, sur les traces de ces femmes et de ces hommes courageux\, qui au péril de leur vie\, ont fait passer la frontière à bon nombre de réfugiés\, les sauvant ainsi de la déportation. \n\n\n\nPique-nique pour midi\, bonnes chaussures et habits adaptés aux conditions météo. \n\n\n\n\n\n\n\nDate\n\n\n\n\n\n\n\nTarif\n\n\n\n\n\n\n\nResponsable UPVJ\n\n\n\n\n\n\n\n\n\nLieu UPVJ
URL:https://www.upvj.ch/event/balade-n-130-les-passeurs-du-risoud/
LOCATION:Rendez-vous à la gare du Brassus à 8h50\, trajet en covoiturage jusqu’à Genolier\, Le Brassus\, 1348\, Suisse
CATEGORIES:Balades
ATTACH;FMTTYPE=image/png:https://www.upvj.ch/wp-content/uploads/2015/12/UPVJ_logo_big.png
END:VEVENT
END:VCALENDAR