BEGIN:VCALENDAR
VERSION:2.0
PRODID:-//UPVJ - ECPv5.16.3//NONSGML v1.0//EN
CALSCALE:GREGORIAN
METHOD:PUBLISH
X-ORIGINAL-URL:https://www.upvj.ch
X-WR-CALDESC:évènements pour UPVJ
REFRESH-INTERVAL;VALUE=DURATION:PT1H
X-Robots-Tag:noindex
X-PUBLISHED-TTL:PT1H
BEGIN:VTIMEZONE
TZID:Europe/Zurich
BEGIN:DAYLIGHT
TZOFFSETFROM:+0100
TZOFFSETTO:+0200
TZNAME:CEST
DTSTART:20180325T010000
END:DAYLIGHT
BEGIN:STANDARD
TZOFFSETFROM:+0200
TZOFFSETTO:+0100
TZNAME:CET
DTSTART:20181028T010000
END:STANDARD
END:VTIMEZONE
BEGIN:VEVENT
DTSTART;TZID=Europe/Zurich:20180922T090000
DTEND;TZID=Europe/Zurich:20180922T160000
DTSTAMP:20260420T215902
CREATED:20220802T140943Z
LAST-MODIFIED:20220802T140944Z
UID:1997-1537606800-1537632000@www.upvj.ch
SUMMARY:Balade n° 120 – Le rendez-vous des sages
DESCRIPTION:Par Yves Giroud – Accompagnateur de randonnée breveté \n\n\n\nCette balade est désormais terminée \n\n\n\n\n\n\nEn collaboration avec l’Université populaire de LausanneAu coeur de la forêt du Risoud\, suivons notre guide sur les chemins empruntés durant la deuxième guerre mondiale par les Passeurs. Dans ce décor inchangé\, marchons sur les traces de ces hommes et de ces femmes de courage qui\, au péril de leur vie\, ont fait passer la frontière à celles et ceux qui fuyaient le régime nazi\, les sauvant ainsi de la déportation.La balade aura lieu par tous les temps.Bonnes chaussures et habits adaptés aux conditions météo.Pique-nique pour midi et carte d’identité. \n\n\n\n\n\n\n\nDate\n\n\n\n\n\n\n\nTarif\n\n\n\n\n\n\n\nResponsable UPVJ\n\n\n\n\n\n\n\n\n\nLieu UPVJ
URL:https://www.upvj.ch/event/balade-n-120-le-rendez-vous-des-sages/
LOCATION:Rendez-vous à la gare du Brassus à 8h50\, trajet en covoiturage jusqu’à Genolier\, Le Brassus\, 1348\, Suisse
CATEGORIES:Balades
ATTACH;FMTTYPE=image/jpeg:https://www.upvj.ch/wp-content/uploads/2018/07/120illustration_ok.jpg
END:VEVENT
END:VCALENDAR