BEGIN:VCALENDAR
VERSION:2.0
PRODID:-//UPVJ - ECPv5.16.3//NONSGML v1.0//EN
CALSCALE:GREGORIAN
METHOD:PUBLISH
X-ORIGINAL-URL:https://www.upvj.ch
X-WR-CALDESC:évènements pour UPVJ
REFRESH-INTERVAL;VALUE=DURATION:PT1H
X-Robots-Tag:noindex
X-PUBLISHED-TTL:PT1H
BEGIN:VTIMEZONE
TZID:Europe/Zurich
BEGIN:DAYLIGHT
TZOFFSETFROM:+0100
TZOFFSETTO:+0200
TZNAME:CEST
DTSTART:20190331T010000
END:DAYLIGHT
BEGIN:STANDARD
TZOFFSETFROM:+0200
TZOFFSETTO:+0100
TZNAME:CET
DTSTART:20191027T010000
END:STANDARD
END:VTIMEZONE
BEGIN:VEVENT
DTSTART;TZID=Europe/Zurich:20190928T100000
DTEND;TZID=Europe/Zurich:20190928T153000
DTSTAMP:20260424T033438
CREATED:20220802T130617Z
LAST-MODIFIED:20220802T130618Z
UID:1951-1569664800-1569684600@www.upvj.ch
SUMMARY:Cours en extérieur 110 - Découvrir la permaculture
DESCRIPTION:Par Christian Ruch – Faciliteur en transition écologique \n\n\n\nCe cours est désormais terminé \n\n\n\n\n\n\n« Prendre soin de soi et de la Vie\, prendre soin de la Planète et partager équitablement ses ressources. » \n\n\n\nLa permaculture\, contraction de « Permanent » et de « Culture »\, est une approche regroupant des méthodes\, des techniques et des principes à la fois ancestraux et innovants\, inspirés de la Nature\, en vue d’une transition écologique et sociale favorisant la résilience et l’harmonie. \n\n\n\nCe cours débutant se déroulera en deux volets:Le matin\, la partie théorique vous permettra de découvrir les principes et les bases de la permaculture.L’après-midi\, nous passerons à la partie pratique en extérieur pour vous donner quelques clés qui vous permettront ensuite de débuter l’organisation de votre propre jardin. \n\n\n\nA lieu par tous les temps\, prendre un pique-nique pour midi\, mettre des habits adaptés à l’activité et aux conditions météo\, bottes et gants de jardinage. \n\n\n\nEn collaboration avec la société de développement du Lieu. \n\n\n\n\n\n\n\nDate\n\n\n\n\n\n\n\nTarif\n\n\n\n\n\n\n\nResponsable UPVJ\n\n\n\n\n\n\n\n\n\nLieu UPVJ
URL:https://www.upvj.ch/event/cours-en-exterieur-110-decouvrir-la-permaculture/
LOCATION:Rendez-vous sur le parking de l’entreprise Dubois Dépraz au Lieu\, Le lieu\, Suisse
CATEGORIES:Cours en extérieur
ATTACH;FMTTYPE=image/jpeg:https://www.upvj.ch/wp-content/uploads/2019/08/110_Permaculture_Illustration.jpg
END:VEVENT
END:VCALENDAR