BEGIN:VCALENDAR
VERSION:2.0
PRODID:-//UPVJ - ECPv5.16.3//NONSGML v1.0//EN
CALSCALE:GREGORIAN
METHOD:PUBLISH
X-ORIGINAL-URL:https://www.upvj.ch
X-WR-CALDESC:évènements pour UPVJ
REFRESH-INTERVAL;VALUE=DURATION:PT1H
X-Robots-Tag:noindex
X-PUBLISHED-TTL:PT1H
BEGIN:VTIMEZONE
TZID:Europe/Zurich
BEGIN:DAYLIGHT
TZOFFSETFROM:+0100
TZOFFSETTO:+0200
TZNAME:CEST
DTSTART:20200329T010000
END:DAYLIGHT
BEGIN:STANDARD
TZOFFSETFROM:+0200
TZOFFSETTO:+0100
TZNAME:CET
DTSTART:20201025T010000
END:STANDARD
END:VTIMEZONE
BEGIN:VEVENT
DTSTART;TZID=Europe/Zurich:20200229T110000
DTEND;TZID=Europe/Zurich:20200229T170000
DTSTAMP:20260423T190216
CREATED:20220802T130336Z
LAST-MODIFIED:20220802T130337Z
UID:1946-1582974000-1582995600@www.upvj.ch
SUMMARY:Cours en extérieur 120 - Taille des arbres et arbustes
DESCRIPTION:Par Bernard Messerli – Maîtrise fédérale en arboriculture fruitière\, enseignant en arboriculture. \n\n\n\nCe cours est désormais terminé \n\n\n\n\n\n\nLe cours débutera par la présentation des éléments composant un arbre et la lecture d’une couronne d’arbre (charpentières\, rameaux\, yeux…). Nous chercherons à comprendre ce dont l’arbre a besoin pour bien fonctionner\, comment il vit selon les saisons. Les participants sont invités à apporter une ou deux photos de leurs arbres (photos de ramure en silhouette prises contre le ciel sur clé usb) afin d’identifier ensemble l’origine du problème et de déterminer comment remédier aux défauts observés. Des exercices pratiques au verger complètent de façon concrète la théorie de la matinée. \n\n\n\nLe cours est prévu assez tôt dans la saison pour vous laisser le temps d’appliquer les techniques acquises dans votre jardin\, avant la montée en sève des plantes. \n\n\n\nPrendre un pique-nique pour midi\, mettre des habits adaptés à l’activité et aux conditions météo\, bottes et gants de jardinage. \n\n\n\n\n\n\n\nDate\n\n\n\n\n\n\n\n90.-\n\n\n\n\n\nResponsable UPVJ\n\n\n\n\n\n\n\n\n\nLieu UPVJ
URL:https://www.upvj.ch/event/cours-en-exterieur-120-taille-des-arbres-et-arbustes/
LOCATION:rendez vous sur le parking des Aristochats\, 1347\, Suisse
CATEGORIES:Cours en extérieur
ATTACH;FMTTYPE=image/jpeg:https://www.upvj.ch/wp-content/uploads/2019/08/120_Taille_Illustration.jpg
END:VEVENT
END:VCALENDAR