BEGIN:VCALENDAR
VERSION:2.0
PRODID:-//UPVJ - ECPv5.16.3//NONSGML v1.0//EN
CALSCALE:GREGORIAN
METHOD:PUBLISH
X-ORIGINAL-URL:https://www.upvj.ch
X-WR-CALDESC:évènements pour UPVJ
REFRESH-INTERVAL;VALUE=DURATION:PT1H
X-Robots-Tag:noindex
X-PUBLISHED-TTL:PT1H
BEGIN:VTIMEZONE
TZID:Europe/Zurich
BEGIN:DAYLIGHT
TZOFFSETFROM:+0100
TZOFFSETTO:+0200
TZNAME:CEST
DTSTART:20210328T010000
END:DAYLIGHT
BEGIN:STANDARD
TZOFFSETFROM:+0200
TZOFFSETTO:+0100
TZNAME:CET
DTSTART:20211031T010000
END:STANDARD
END:VTIMEZONE
BEGIN:VEVENT
DTSTART;TZID=Europe/Zurich:20210605T080000
DTEND;TZID=Europe/Zurich:20210605T120000
DTSTAMP:20260422T122515
CREATED:20220802T120335Z
LAST-MODIFIED:20220802T120337Z
UID:1893-1622880000-1622894400@www.upvj.ch
SUMMARY:Cours en extérieur 20/21-200 - Pâturages boisés et chalets d'alpage
DESCRIPTION:Par François Villard\, Marc Meylan\, Rémy Meylan et América Croisier – Gardes forestiers \n\n\n\nLors de cette sortie\, les gardes forestiers aborderont l’exploitation du bois et la biodiversité des pâturages boisés. Ils nous parleront également des relations qu’ils ont avec les agriculteurs. \n\n\n\nIl sera aussi question du maintien du patrimoine tels les murs en pierre sèche et la fabrication du fromage. \n\n\n\n\n\n\nEnfin\, ils nous parleront des attentes des divers acteurs professionnels du domaine et de celles de la population. \n\n\n\nPrendre avec soi de quoi écrire (carnet et stylo). \n\n\n\nBonnes chaussures et habits de circonstance\, en fonction des conditions météo. \n\n\n\n\n\n\n\nDate\n\n\n\n\n\n\n\nTarif\n\n\n\n\n\n\n\nResponsable UPVJ\n\n\n\n\n\n\n\n\n\nLieu UPVJ
URL:https://www.upvj.ch/event/cours-en-exterieur-20-21-200-paturages-boises-et-chalets-dalpage/
LOCATION:Gare du Brassus – 1348 Le Brassus\, Gare\, le Brassus\, 1348\, Suisse
CATEGORIES:Cours en extérieur
ATTACH;FMTTYPE=image/jpeg:https://www.upvj.ch/wp-content/uploads/2020/08/20_21-200_Illustration.jpeg
END:VEVENT
END:VCALENDAR